BEGIN:VCALENDAR
VERSION:2.0
PRODID:-//NatureUganda - ECPv6.15.20//NONSGML v1.0//EN
CALSCALE:GREGORIAN
METHOD:PUBLISH
X-ORIGINAL-URL:https://natureuganda.org
X-WR-CALDESC:Events for NatureUganda
REFRESH-INTERVAL;VALUE=DURATION:PT1H
X-Robots-Tag:noindex
X-PUBLISHED-TTL:PT1H
BEGIN:VTIMEZONE
TZID:Africa/Kampala
BEGIN:STANDARD
TZOFFSETFROM:+0300
TZOFFSETTO:+0300
TZNAME:EAT
DTSTART:20250101T000000
END:STANDARD
END:VTIMEZONE
BEGIN:VEVENT
DTSTART;TZID=Africa/Kampala:20260226T080000
DTEND;TZID=Africa/Kampala:20260226T170000
DTSTAMP:20260420T170818
CREATED:20260119T094726Z
LAST-MODIFIED:20260218T104410Z
UID:7913-1772092800-1772125200@natureuganda.org
SUMMARY:National Wildlife Conservation Conference 2026
DESCRIPTION:Theme 2026: Medicinal and Aromatic Plants (MAPS): Conserving Heritage\, Health and Livelihoods \nEvery year on March 3\, people all over the world celebrate “World Wildlife Day” to honour the many beautiful and unique species of wild animals and plants. Wildlife traditionally refers to undomesticated animal species\, but has come to include all plants\, fungi\, and other organisms that grow or live wild in an area without being introduced by humans. \nWildlife Day is an opportunity to recognise the unique roles that natural plants and animals play in our ecosystem. It allows you to show support for a range of creatures. It serves as a timely reminder that more needs to be done to combat wildlife crime and human-caused biodiversity loss\, which are increasingly having cultural\, social\, and economic repercussions. Both plants and animals have inherent value for our ecosystem\, economy\, science\, history\, and other facets of sustainable human development. The occasion of World Wildlife Conservation Day allows us to recognise these magnificent wildlife species. \nThis year’s theme highlights the crucial role these plants play in human health\, traditional knowledge\, and sustainable economies\, while also addressing the threats they face from habitat loss and overharvesting. \nThe Ministry of Tourism\, Wildlife and Antiquities (MTWA) is leading in the preparations of the National celebrations. The World Wildlife Day celebrations will be held on 3rd March 2026\, in Entebbe at the former Uganda Wildlife Conservation Education Centre. A series of events to celebrate the day\, include; a Media launch\, Wildlife Conservation Conference\, Crane festival\, Wildlife Marathon\, Wildlife Quizzes\, and the major Wildlife day celebrations in that order. \nNatureUganda is organising the Wildlife Conservation Conference under the theme ‘Medicinal and Aromatic Plants: Conserving Heritage\, Health and Livelihoods’. This conference is scheduled for 26th February 2026.
URL:https://natureuganda.org/event/conservation-conference-2026/
CATEGORIES:National Events,Public dialogue
END:VEVENT
END:VCALENDAR